BEGIN:VCALENDAR
VERSION:2.0
PRODID:-//Cowes Yacht Haven - ECPv6.15.20//NONSGML v1.0//EN
CALSCALE:GREGORIAN
METHOD:PUBLISH
X-ORIGINAL-URL:https://www.cowesyachthaven.com
X-WR-CALDESC:Events for Cowes Yacht Haven
REFRESH-INTERVAL;VALUE=DURATION:PT1H
X-Robots-Tag:noindex
X-PUBLISHED-TTL:PT1H
BEGIN:VTIMEZONE
TZID:Europe/London
BEGIN:DAYLIGHT
TZOFFSETFROM:+0000
TZOFFSETTO:+0100
TZNAME:BST
DTSTART:20240331T010000
END:DAYLIGHT
BEGIN:STANDARD
TZOFFSETFROM:+0100
TZOFFSETTO:+0000
TZNAME:GMT
DTSTART:20241027T010000
END:STANDARD
BEGIN:DAYLIGHT
TZOFFSETFROM:+0000
TZOFFSETTO:+0100
TZNAME:BST
DTSTART:20250330T010000
END:DAYLIGHT
BEGIN:STANDARD
TZOFFSETFROM:+0100
TZOFFSETTO:+0000
TZNAME:GMT
DTSTART:20251026T010000
END:STANDARD
BEGIN:DAYLIGHT
TZOFFSETFROM:+0000
TZOFFSETTO:+0100
TZNAME:BST
DTSTART:20260329T010000
END:DAYLIGHT
BEGIN:STANDARD
TZOFFSETFROM:+0100
TZOFFSETTO:+0000
TZNAME:GMT
DTSTART:20261025T010000
END:STANDARD
END:VTIMEZONE
BEGIN:VEVENT
DTSTART;TZID=Europe/London:20251011T181500
DTEND;TZID=Europe/London:20251012T013000
DTSTAMP:20260421T191347
CREATED:20230717T140258Z
LAST-MODIFIED:20250707T135651Z
UID:374-1760206500-1760232600@www.cowesyachthaven.com
SUMMARY:Decadeance - 11th October 2025
DESCRIPTION:Presented by Tony Martin\, the annual DECADeANCE takes place at Cowes Yacht Haven in aid of the IOW Mountbatten Hospice.\n\n\n\nDon’t know what ‘DECADeANCE is?\nHaven’t been before?\nThen it’s time to find out!\nTreat yourself to a great party night out!\nIt sells out so don’t miss out\n\nRead more here: https://www.facebook.com/DECADeANCE-117365695045282/\n\nContact: decadeancenight@gmail.com
URL:https://www.cowesyachthaven.com/event/decadeance/
LOCATION:Cowes Yacht Haven\, United Kingdom
CATEGORIES:Open to the Public,Ticketed Event
ATTACH;FMTTYPE=image/jpeg:https://www.cowesyachthaven.com/wp-content/uploads/Decadeance-2025-Web-Poster.jpg
END:VEVENT
BEGIN:VEVENT
DTSTART;VALUE=DATE:20250802
DTEND;VALUE=DATE:20250809
DTSTAMP:20260421T191347
CREATED:20230830T152610Z
LAST-MODIFIED:20250425T154416Z
UID:2308-1754092800-1754697599@www.cowesyachthaven.com
SUMMARY:Cowes Week 2025
DESCRIPTION:At 199 years young\, Cowes Week is the world’s longest running regatta. It remains one of the pre-eminent and best-known events in the global sailing calendar. \nIn 2025 the team will be welcoming boats racing in up to 36 different classes and the organisers have their sights set on even greater participation in the lead up to the bicentenary of the event in 2026. \nCowes Yacht Haven will be building a hospitality area for all to enjoy and further details will be available in due course.
URL:https://www.cowesyachthaven.com/event/cowes-week/
LOCATION:THE SOLENT
CATEGORIES:Open to the Public,Racing
ATTACH;FMTTYPE=image/png:https://www.cowesyachthaven.com/wp-content/uploads/CW-weblogo-2023-1.png
END:VEVENT
BEGIN:VEVENT
DTSTART;VALUE=DATE:20250607
DTEND;VALUE=DATE:20250608
DTSTAMP:20260421T191347
CREATED:20230830T152814Z
LAST-MODIFIED:20250425T154751Z
UID:2310-1749254400-1749340799@www.cowesyachthaven.com
SUMMARY:Round the Island Race 2025
DESCRIPTION:
URL:https://www.cowesyachthaven.com/event/round-the-island-race/
LOCATION:AROUND THE ISLE OF WIGHT
CATEGORIES:Open to the Public,Racing
ATTACH;FMTTYPE=image/png:https://www.cowesyachthaven.com/wp-content/uploads/RTIR.png
END:VEVENT
END:VCALENDAR