BEGIN:VCALENDAR
VERSION:2.0
PRODID:-//Cowes Yacht Haven - ECPv6.15.20//NONSGML v1.0//EN
CALSCALE:GREGORIAN
METHOD:PUBLISH
X-ORIGINAL-URL:https://www.cowesyachthaven.com
X-WR-CALDESC:Events for Cowes Yacht Haven
REFRESH-INTERVAL;VALUE=DURATION:PT1H
X-Robots-Tag:noindex
X-PUBLISHED-TTL:PT1H
BEGIN:VTIMEZONE
TZID:Europe/London
BEGIN:DAYLIGHT
TZOFFSETFROM:+0000
TZOFFSETTO:+0100
TZNAME:BST
DTSTART:20240331T010000
END:DAYLIGHT
BEGIN:STANDARD
TZOFFSETFROM:+0100
TZOFFSETTO:+0000
TZNAME:GMT
DTSTART:20241027T010000
END:STANDARD
BEGIN:DAYLIGHT
TZOFFSETFROM:+0000
TZOFFSETTO:+0100
TZNAME:BST
DTSTART:20250330T010000
END:DAYLIGHT
BEGIN:STANDARD
TZOFFSETFROM:+0100
TZOFFSETTO:+0000
TZNAME:GMT
DTSTART:20251026T010000
END:STANDARD
BEGIN:DAYLIGHT
TZOFFSETFROM:+0000
TZOFFSETTO:+0100
TZNAME:BST
DTSTART:20260329T010000
END:DAYLIGHT
BEGIN:STANDARD
TZOFFSETFROM:+0100
TZOFFSETTO:+0000
TZNAME:GMT
DTSTART:20261025T010000
END:STANDARD
END:VTIMEZONE
BEGIN:VEVENT
DTSTART;VALUE=DATE:20250530
DTEND;VALUE=DATE:20250602
DTSTAMP:20260423T043848
CREATED:20250510T095006Z
LAST-MODIFIED:20250522T132654Z
UID:2488-1748563200-1748822399@www.cowesyachthaven.com
SUMMARY:Cowes Classics Regatta - 2025
DESCRIPTION:Cowes Classics Regatta is all about racing traditional yachts on the water and enjoying fabulous social events ashore. Metre boats\, Classic Racing Dayboats and Yachts\, Old Gaffers and Spirit of Tradition Yachts race varied central Solent courses. Great value socials are held at different club venues including tea and cake at RLYC\, daily prize givings plus a gala dinner and awards ceremony to celebrate the sailing.
URL:https://www.cowesyachthaven.com/event/cowes-classics-week/
LOCATION:THE SOLENT
CATEGORIES:Racing
ATTACH;FMTTYPE=image/png:https://www.cowesyachthaven.com/wp-content/uploads/CCW-2025-RLYC-RTYC-Header-v3-500px.png
END:VEVENT
END:VCALENDAR