BEGIN:VCALENDAR
VERSION:2.0
PRODID:-//Cowes Yacht Haven - ECPv6.15.20//NONSGML v1.0//EN
CALSCALE:GREGORIAN
METHOD:PUBLISH
X-ORIGINAL-URL:https://www.cowesyachthaven.com
X-WR-CALDESC:Events for Cowes Yacht Haven
REFRESH-INTERVAL;VALUE=DURATION:PT1H
X-Robots-Tag:noindex
X-PUBLISHED-TTL:PT1H
BEGIN:VTIMEZONE
TZID:Europe/London
BEGIN:DAYLIGHT
TZOFFSETFROM:+0000
TZOFFSETTO:+0100
TZNAME:BST
DTSTART:20240331T010000
END:DAYLIGHT
BEGIN:STANDARD
TZOFFSETFROM:+0100
TZOFFSETTO:+0000
TZNAME:GMT
DTSTART:20241027T010000
END:STANDARD
BEGIN:DAYLIGHT
TZOFFSETFROM:+0000
TZOFFSETTO:+0100
TZNAME:BST
DTSTART:20250330T010000
END:DAYLIGHT
BEGIN:STANDARD
TZOFFSETFROM:+0100
TZOFFSETTO:+0000
TZNAME:GMT
DTSTART:20251026T010000
END:STANDARD
BEGIN:DAYLIGHT
TZOFFSETFROM:+0000
TZOFFSETTO:+0100
TZNAME:BST
DTSTART:20260329T010000
END:DAYLIGHT
BEGIN:STANDARD
TZOFFSETFROM:+0100
TZOFFSETTO:+0000
TZNAME:GMT
DTSTART:20261025T010000
END:STANDARD
END:VTIMEZONE
BEGIN:VEVENT
DTSTART;VALUE=DATE:20250418
DTEND;VALUE=DATE:20250422
DTSTAMP:20260422T113142
CREATED:20231010T121526Z
LAST-MODIFIED:20250425T152659Z
UID:2355-1744934400-1745279999@www.cowesyachthaven.com
SUMMARY:Royal Ocean Racing Club (RORC) Easter Challenge - 2025
DESCRIPTION:
URL:https://www.cowesyachthaven.com/event/royal-ocean-racing-club-rorc-easter-challenge/
CATEGORIES:Racing
ATTACH;FMTTYPE=image/png:https://www.cowesyachthaven.com/wp-content/uploads/rorc-logo-rounded.png
END:VEVENT
BEGIN:VEVENT
DTSTART;VALUE=DATE:20250422
DTEND;VALUE=DATE:20250423
DTSTAMP:20260422T113142
CREATED:20240704T132351Z
LAST-MODIFIED:20250425T154808Z
UID:2438-1745280000-1745366399@www.cowesyachthaven.com
SUMMARY:Evening Race Series
DESCRIPTION:The Island Sailing Club’s Evening Race Series runs from April to September and welcomes a wide range of boats. \nYou can watch the boats getting ready for their racing from Cowes Yacht Haven and the starts and finishes from Cowes Parade. \nThe series culminates with the fun “Bang and Go Back Race” which has to be seen to be believed! \nMore information  can be found here.
URL:https://www.cowesyachthaven.com/event/evening-race-series/
LOCATION:THE SOLENT
CATEGORIES:Racing
ATTACH;FMTTYPE=image/jpeg:https://www.cowesyachthaven.com/wp-content/uploads/BGB.jpg
END:VEVENT
END:VCALENDAR