BEGIN:VCALENDAR
VERSION:2.0
PRODID:-//Cowes Yacht Haven - ECPv6.15.20//NONSGML v1.0//EN
CALSCALE:GREGORIAN
METHOD:PUBLISH
X-ORIGINAL-URL:https://www.cowesyachthaven.com
X-WR-CALDESC:Events for Cowes Yacht Haven
REFRESH-INTERVAL;VALUE=DURATION:PT1H
X-Robots-Tag:noindex
X-PUBLISHED-TTL:PT1H
BEGIN:VTIMEZONE
TZID:Europe/London
BEGIN:DAYLIGHT
TZOFFSETFROM:+0000
TZOFFSETTO:+0100
TZNAME:BST
DTSTART:20250330T010000
END:DAYLIGHT
BEGIN:STANDARD
TZOFFSETFROM:+0100
TZOFFSETTO:+0000
TZNAME:GMT
DTSTART:20251026T010000
END:STANDARD
BEGIN:DAYLIGHT
TZOFFSETFROM:+0000
TZOFFSETTO:+0100
TZNAME:BST
DTSTART:20260329T010000
END:DAYLIGHT
BEGIN:STANDARD
TZOFFSETFROM:+0100
TZOFFSETTO:+0000
TZNAME:GMT
DTSTART:20261025T010000
END:STANDARD
BEGIN:DAYLIGHT
TZOFFSETFROM:+0000
TZOFFSETTO:+0100
TZNAME:BST
DTSTART:20270328T010000
END:DAYLIGHT
BEGIN:STANDARD
TZOFFSETFROM:+0100
TZOFFSETTO:+0000
TZNAME:GMT
DTSTART:20271031T010000
END:STANDARD
END:VTIMEZONE
BEGIN:VEVENT
DTSTART;VALUE=DATE:20260627
DTEND;VALUE=DATE:20260705
DTSTAMP:20260421T191305
CREATED:20251009T130118Z
LAST-MODIFIED:20251009T133214Z
UID:3174-1782518400-1783209599@www.cowesyachthaven.com
SUMMARY:5.5M Europeans Regatta
DESCRIPTION:
URL:https://www.cowesyachthaven.com/event/5-5m-european-championships/
CATEGORIES:Racing
ATTACH;FMTTYPE=image/png:https://www.cowesyachthaven.com/wp-content/uploads/55_logo.png
END:VEVENT
END:VCALENDAR