BEGIN:VCALENDAR
VERSION:2.0
PRODID:-//Cowes Yacht Haven - ECPv6.15.20//NONSGML v1.0//EN
CALSCALE:GREGORIAN
METHOD:PUBLISH
X-ORIGINAL-URL:https://www.cowesyachthaven.com
X-WR-CALDESC:Events for Cowes Yacht Haven
REFRESH-INTERVAL;VALUE=DURATION:PT1H
X-Robots-Tag:noindex
X-PUBLISHED-TTL:PT1H
BEGIN:VTIMEZONE
TZID:Europe/London
BEGIN:DAYLIGHT
TZOFFSETFROM:+0000
TZOFFSETTO:+0100
TZNAME:BST
DTSTART:20240331T010000
END:DAYLIGHT
BEGIN:STANDARD
TZOFFSETFROM:+0100
TZOFFSETTO:+0000
TZNAME:GMT
DTSTART:20241027T010000
END:STANDARD
BEGIN:DAYLIGHT
TZOFFSETFROM:+0000
TZOFFSETTO:+0100
TZNAME:BST
DTSTART:20250330T010000
END:DAYLIGHT
BEGIN:STANDARD
TZOFFSETFROM:+0100
TZOFFSETTO:+0000
TZNAME:GMT
DTSTART:20251026T010000
END:STANDARD
BEGIN:DAYLIGHT
TZOFFSETFROM:+0000
TZOFFSETTO:+0100
TZNAME:BST
DTSTART:20260329T010000
END:DAYLIGHT
BEGIN:STANDARD
TZOFFSETFROM:+0100
TZOFFSETTO:+0000
TZNAME:GMT
DTSTART:20261025T010000
END:STANDARD
END:VTIMEZONE
BEGIN:VEVENT
DTSTART;VALUE=DATE:20250912
DTEND;VALUE=DATE:20250914
DTSTAMP:20260421T174324
CREATED:20250425T152243Z
LAST-MODIFIED:20250425T154444Z
UID:2943-1757635200-1757807999@www.cowesyachthaven.com
SUMMARY:Little Britain Challenge Cup Regatta - 2025
DESCRIPTION:The Little Britain Challenge Cup – the property and construction industry’s annual sailing regatta – is a two-day\, 5-race series event organised by volunteers for the industry. \nThere are Classes for IRC rated boats\, Prometheus 41 one design and crusiers with white sails only are all welcome. \nThe regatta is dedicated to raising money for sailing charities who have been heavily affected over the past years since the COVID 19 pandemic. \nThis year’s regatta will be held in West Cowes\, and racing will be on the Solent\, around the cans\, with courses set in both the east and west of central Solent.  There will be plenty of opportunities to meet up with crews\, friends and industry colleagues during the pontoon parties and at the local Sailing Club in Cowes\, such as the Island Sailing Club\, the Royal Ocean Racing Club\, and the Royal Yacht Squadron.
URL:https://www.cowesyachthaven.com/event/lbcc/
LOCATION:THE SOLENT
CATEGORIES:Racing
ATTACH;FMTTYPE=image/png:https://www.cowesyachthaven.com/wp-content/uploads/LBCCLogo.png
END:VEVENT
BEGIN:VEVENT
DTSTART;VALUE=DATE:20250821
DTEND;VALUE=DATE:20250826
DTSTAMP:20260421T174324
CREATED:20230830T154127Z
LAST-MODIFIED:20250425T155127Z
UID:2315-1755734400-1756166399@www.cowesyachthaven.com
SUMMARY:British Powerboat Racing Club – Cowes Powerboat Festival 2025
DESCRIPTION:The British Powerboat racing club will be back at Cowes Yacht Haven for August bank holiday 2025.\nCome and watch the boats prepare for their racing from the North Wall that wraps around the marina.
URL:https://www.cowesyachthaven.com/event/british-powerboat-racing-club-cowes-powerboat-festival/
LOCATION:COWES TORQUAY COWES
CATEGORIES:Racing
ATTACH;FMTTYPE=image/jpeg:https://www.cowesyachthaven.com/wp-content/uploads/BPRC_Logo.jpg
END:VEVENT
BEGIN:VEVENT
DTSTART;VALUE=DATE:20250802
DTEND;VALUE=DATE:20250809
DTSTAMP:20260421T174324
CREATED:20230830T152610Z
LAST-MODIFIED:20250425T154416Z
UID:2308-1754092800-1754697599@www.cowesyachthaven.com
SUMMARY:Cowes Week 2025
DESCRIPTION:At 199 years young\, Cowes Week is the world’s longest running regatta. It remains one of the pre-eminent and best-known events in the global sailing calendar. \nIn 2025 the team will be welcoming boats racing in up to 36 different classes and the organisers have their sights set on even greater participation in the lead up to the bicentenary of the event in 2026. \nCowes Yacht Haven will be building a hospitality area for all to enjoy and further details will be available in due course.
URL:https://www.cowesyachthaven.com/event/cowes-week/
LOCATION:THE SOLENT
CATEGORIES:Open to the Public,Racing
ATTACH;FMTTYPE=image/png:https://www.cowesyachthaven.com/wp-content/uploads/CW-weblogo-2023-1.png
END:VEVENT
BEGIN:VEVENT
DTSTART;TZID=Europe/London:20250726T111000
DTEND;TZID=Europe/London:20250726T132000
DTSTAMP:20260421T174324
CREATED:20250721T151005Z
LAST-MODIFIED:20250721T154213Z
UID:3132-1753528200-1753536000@www.cowesyachthaven.com
SUMMARY:RORC Fastnet Race - 26th July 2025
DESCRIPTION:The 100th anniversary of the Rolex Fastnet Race starts on 26th July 2025 \nThe race upon which the Royal Ocean Racing Club was founded in 1925 has grown to become the world’s largest offshore race. The 100th anniversary edition sets sail from Cowes and the finish\, for a third time\, is Cherbourg-en-Cotentin\, France; a course of 695 miles. \nRead more here.
URL:https://www.cowesyachthaven.com/event/rorc-fastnet-race-26th-july-2025/
LOCATION:Royal Ocean Racing Club\, Cowes\, Royal Ocean Racing Club\, Race Office The Parade\,\, Cowes\, Isle of Wight\, PO31 7QU\, United Kingdom
CATEGORIES:Racing
ATTACH;FMTTYPE=image/png:https://www.cowesyachthaven.com/wp-content/uploads/Fastnetlogo.png
END:VEVENT
BEGIN:VEVENT
DTSTART;VALUE=DATE:20250717
DTEND;VALUE=DATE:20250802
DTSTAMP:20260421T174324
CREATED:20240223T135305Z
LAST-MODIFIED:20250718T152825Z
UID:2433-1752710400-1754092799@www.cowesyachthaven.com
SUMMARY:Royal Ocean Racing Club (RORC) - The Admirals Cup 2025
DESCRIPTION:The Admiral’s Cup is back for 2025 and will be held biennially thereafter by the Royal Ocean Racing Club. Established in 1957\, The Admiral’s Cup is honoured throughout the world of sailing as the unofficial world cup for offshore racing. \nTeams from Great Britain have been the most successful\, winning the trophy on nine occasions. Germany has won four times\, USA and Australia three times each\, with Australia being the holders of this prized trophy. Victories have been achieved for France\, Italy\, the Netherlands and New Zealand. \nCome and watch the boats preparing for their races from the Northwall – Access is by the Harbour Commission office on Cowes Town Quay. \nRead more here
URL:https://www.cowesyachthaven.com/event/royal-ocean-racing-club-the-admirals-cup/
LOCATION:THE SOLENT
CATEGORIES:Racing
ATTACH;FMTTYPE=image/png:https://www.cowesyachthaven.com/wp-content/uploads/The-Admirals-Cup-Logo.png
END:VEVENT
BEGIN:VEVENT
DTSTART;VALUE=DATE:20250705
DTEND;VALUE=DATE:20250713
DTSTAMP:20260421T174324
CREATED:20230830T153000Z
LAST-MODIFIED:20250425T154649Z
UID:2313-1751673600-1752364799@www.cowesyachthaven.com
SUMMARY:British Classic Week 2025
DESCRIPTION:British Classic Week\, the premier classic yacht regatta in the UK. The annual regatta organised by the British Classic Yacht Club (BCYC).  British Classic Week has been held every year since the America’s Cup Jubilee in 2001 and not only attracts entries from the UK\, but also regularly from across Europe and from Australia and New Zealand. \nThe regatta is a celebratory occasion for classic boat enthusiasts to enjoy good racing and to spend time with fellow sailors who share the same appreciation of classic yachts.
URL:https://www.cowesyachthaven.com/event/british-classic-week/
LOCATION:THE SOLENT
CATEGORIES:Racing
ATTACH;FMTTYPE=image/png:https://www.cowesyachthaven.com/wp-content/uploads/BCNLogolandscapeNewColours.png
END:VEVENT
BEGIN:VEVENT
DTSTART;VALUE=DATE:20250612
DTEND;VALUE=DATE:20250616
DTSTAMP:20260421T174324
CREATED:20240410T102903Z
LAST-MODIFIED:20250425T154718Z
UID:2437-1749686400-1750031999@www.cowesyachthaven.com
SUMMARY:Royal Thames YC - 250th Anniversary
DESCRIPTION:The Royal Thames Yacht Club will be celebrating their 250th Anniversary in Cowes with the Cumberland Regatta. \nFurther details will follow.
URL:https://www.cowesyachthaven.com/event/royal-thames-yc-250th-anniversary/
LOCATION:THE SOLENT
CATEGORIES:Racing,Ticketed Event
ATTACH;FMTTYPE=image/jpeg:https://www.cowesyachthaven.com/wp-content/uploads/Royal-Thames-YC.jpg
END:VEVENT
BEGIN:VEVENT
DTSTART;VALUE=DATE:20250607
DTEND;VALUE=DATE:20250608
DTSTAMP:20260421T174324
CREATED:20230830T152814Z
LAST-MODIFIED:20250425T154751Z
UID:2310-1749254400-1749340799@www.cowesyachthaven.com
SUMMARY:Round the Island Race 2025
DESCRIPTION:
URL:https://www.cowesyachthaven.com/event/round-the-island-race/
LOCATION:AROUND THE ISLE OF WIGHT
CATEGORIES:Open to the Public,Racing
ATTACH;FMTTYPE=image/png:https://www.cowesyachthaven.com/wp-content/uploads/RTIR.png
END:VEVENT
BEGIN:VEVENT
DTSTART;VALUE=DATE:20250422
DTEND;VALUE=DATE:20250423
DTSTAMP:20260421T174324
CREATED:20240704T132351Z
LAST-MODIFIED:20250425T154808Z
UID:2438-1745280000-1745366399@www.cowesyachthaven.com
SUMMARY:Evening Race Series
DESCRIPTION:The Island Sailing Club’s Evening Race Series runs from April to September and welcomes a wide range of boats. \nYou can watch the boats getting ready for their racing from Cowes Yacht Haven and the starts and finishes from Cowes Parade. \nThe series culminates with the fun “Bang and Go Back Race” which has to be seen to be believed! \nMore information  can be found here.
URL:https://www.cowesyachthaven.com/event/evening-race-series/
LOCATION:THE SOLENT
CATEGORIES:Racing
ATTACH;FMTTYPE=image/jpeg:https://www.cowesyachthaven.com/wp-content/uploads/BGB.jpg
END:VEVENT
BEGIN:VEVENT
DTSTART;VALUE=DATE:20250418
DTEND;VALUE=DATE:20250422
DTSTAMP:20260421T174324
CREATED:20231010T121526Z
LAST-MODIFIED:20250425T152659Z
UID:2355-1744934400-1745279999@www.cowesyachthaven.com
SUMMARY:Royal Ocean Racing Club (RORC) Easter Challenge - 2025
DESCRIPTION:
URL:https://www.cowesyachthaven.com/event/royal-ocean-racing-club-rorc-easter-challenge/
CATEGORIES:Racing
ATTACH;FMTTYPE=image/png:https://www.cowesyachthaven.com/wp-content/uploads/rorc-logo-rounded.png
END:VEVENT
BEGIN:VEVENT
DTSTART;VALUE=DATE:20250530
DTEND;VALUE=DATE:20250602
DTSTAMP:20260421T174324
CREATED:20250510T095006Z
LAST-MODIFIED:20250522T132654Z
UID:2488-1748563200-1748822399@www.cowesyachthaven.com
SUMMARY:Cowes Classics Regatta - 2025
DESCRIPTION:Cowes Classics Regatta is all about racing traditional yachts on the water and enjoying fabulous social events ashore. Metre boats\, Classic Racing Dayboats and Yachts\, Old Gaffers and Spirit of Tradition Yachts race varied central Solent courses. Great value socials are held at different club venues including tea and cake at RLYC\, daily prize givings plus a gala dinner and awards ceremony to celebrate the sailing.
URL:https://www.cowesyachthaven.com/event/cowes-classics-week/
LOCATION:THE SOLENT
CATEGORIES:Racing
ATTACH;FMTTYPE=image/png:https://www.cowesyachthaven.com/wp-content/uploads/CCW-2025-RLYC-RTYC-Header-v3-500px.png
END:VEVENT
END:VCALENDAR