BEGIN:VCALENDAR
VERSION:2.0
PRODID:-//Cowes Yacht Haven - ECPv6.15.20//NONSGML v1.0//EN
CALSCALE:GREGORIAN
METHOD:PUBLISH
X-WR-CALNAME:Cowes Yacht Haven
X-ORIGINAL-URL:https://www.cowesyachthaven.com
X-WR-CALDESC:Events for Cowes Yacht Haven
REFRESH-INTERVAL;VALUE=DURATION:PT1H
X-Robots-Tag:noindex
X-PUBLISHED-TTL:PT1H
BEGIN:VTIMEZONE
TZID:Europe/London
BEGIN:DAYLIGHT
TZOFFSETFROM:+0000
TZOFFSETTO:+0100
TZNAME:BST
DTSTART:20210328T010000
END:DAYLIGHT
BEGIN:STANDARD
TZOFFSETFROM:+0100
TZOFFSETTO:+0000
TZNAME:GMT
DTSTART:20211031T010000
END:STANDARD
BEGIN:DAYLIGHT
TZOFFSETFROM:+0000
TZOFFSETTO:+0100
TZNAME:BST
DTSTART:20220327T010000
END:DAYLIGHT
BEGIN:STANDARD
TZOFFSETFROM:+0100
TZOFFSETTO:+0000
TZNAME:GMT
DTSTART:20221030T010000
END:STANDARD
BEGIN:DAYLIGHT
TZOFFSETFROM:+0000
TZOFFSETTO:+0100
TZNAME:BST
DTSTART:20230326T010000
END:DAYLIGHT
BEGIN:STANDARD
TZOFFSETFROM:+0100
TZOFFSETTO:+0000
TZNAME:GMT
DTSTART:20231029T010000
END:STANDARD
BEGIN:DAYLIGHT
TZOFFSETFROM:+0000
TZOFFSETTO:+0100
TZNAME:BST
DTSTART:20240331T010000
END:DAYLIGHT
BEGIN:STANDARD
TZOFFSETFROM:+0100
TZOFFSETTO:+0000
TZNAME:GMT
DTSTART:20241027T010000
END:STANDARD
BEGIN:DAYLIGHT
TZOFFSETFROM:+0000
TZOFFSETTO:+0100
TZNAME:BST
DTSTART:20250330T010000
END:DAYLIGHT
BEGIN:STANDARD
TZOFFSETFROM:+0100
TZOFFSETTO:+0000
TZNAME:GMT
DTSTART:20251026T010000
END:STANDARD
BEGIN:DAYLIGHT
TZOFFSETFROM:+0000
TZOFFSETTO:+0100
TZNAME:BST
DTSTART:20260329T010000
END:DAYLIGHT
BEGIN:STANDARD
TZOFFSETFROM:+0100
TZOFFSETTO:+0000
TZNAME:GMT
DTSTART:20261025T010000
END:STANDARD
END:VTIMEZONE
BEGIN:VEVENT
DTSTART;VALUE=DATE:20240712
DTEND;VALUE=DATE:20240715
DTSTAMP:20260421T191110
CREATED:20240410T101456Z
LAST-MODIFIED:20240410T101456Z
UID:2499-1720742400-1721001599@www.cowesyachthaven.com
SUMMARY:Boatlife Fishing Championship
DESCRIPTION:Introducing a brand-new catch & release event created to harness the value of the UK’s £1.5 BILLION sea fishing industry and help deliver growth and education to the sector.\nBoatLife Fishing Championship – 8 rounds over 4 weekends for brands and businesses to compete and become the UK Champion.\nBoatLife Fishing Privateers Cup – A full day at each weekend dedicated to private anglers to compete against each other for prizes and trophies. \n 
URL:https://www.cowesyachthaven.com/event/boatlife-fishing-championship/
ATTACH;FMTTYPE=image/png:https://www.cowesyachthaven.com/wp-content/uploads/boatlife-fc-logo.png
END:VEVENT
BEGIN:VEVENT
DTSTART;VALUE=DATE:20250530
DTEND;VALUE=DATE:20250602
DTSTAMP:20260421T191110
CREATED:20250510T095006Z
LAST-MODIFIED:20250522T132654Z
UID:2488-1748563200-1748822399@www.cowesyachthaven.com
SUMMARY:Cowes Classics Regatta - 2025
DESCRIPTION:Cowes Classics Regatta is all about racing traditional yachts on the water and enjoying fabulous social events ashore. Metre boats\, Classic Racing Dayboats and Yachts\, Old Gaffers and Spirit of Tradition Yachts race varied central Solent courses. Great value socials are held at different club venues including tea and cake at RLYC\, daily prize givings plus a gala dinner and awards ceremony to celebrate the sailing.
URL:https://www.cowesyachthaven.com/event/cowes-classics-week/
LOCATION:THE SOLENT
CATEGORIES:Racing
ATTACH;FMTTYPE=image/png:https://www.cowesyachthaven.com/wp-content/uploads/CCW-2025-RLYC-RTYC-Header-v3-500px.png
END:VEVENT
BEGIN:VEVENT
DTSTART;VALUE=DATE:20230831
DTEND;VALUE=DATE:20230909
DTSTAMP:20260421T191110
CREATED:20230717T135416Z
LAST-MODIFIED:20230717T135832Z
UID:2269-1693440000-1694217599@www.cowesyachthaven.com
SUMMARY:International Six Metre World Championships
DESCRIPTION:The Royal Yacht Squadron (RYS) based in Cowes on the Isle of Wight (UK) will host the 2023 International Six Metre World Championships from 31 August to 8 September.
URL:https://www.cowesyachthaven.com/event/international-six-metre-world-championships/
ATTACH;FMTTYPE=image/jpeg:https://www.cowesyachthaven.com/wp-content/uploads/cropped-6m-association-circular-logo-rgb-colour-01.jpg
END:VEVENT
BEGIN:VEVENT
DTSTART;VALUE=DATE:20230826
DTEND;VALUE=DATE:20230829
DTSTAMP:20260421T191110
CREATED:20230717T134815Z
LAST-MODIFIED:20230717T135318Z
UID:2263-1693008000-1693267199@www.cowesyachthaven.com
SUMMARY:British Powerboat Racing Club - Cowes Powerboat Festival
DESCRIPTION:
URL:https://www.cowesyachthaven.com/event/bprc_cpf/
ATTACH;FMTTYPE=image/jpeg:https://www.cowesyachthaven.com/wp-content/uploads/BPRC_Logo.jpg
END:VEVENT
BEGIN:VEVENT
DTSTART;VALUE=DATE:20230813
DTEND;VALUE=DATE:20230819
DTSTAMP:20260421T191110
CREATED:20230717T133026Z
LAST-MODIFIED:20230717T133044Z
UID:2258-1691884800-1692403199@www.cowesyachthaven.com
SUMMARY:International Dragons - Edinburgh Cup
DESCRIPTION:
URL:https://www.cowesyachthaven.com/event/international-dragons-edinburgh-cup/
ATTACH;FMTTYPE=image/jpeg:https://www.cowesyachthaven.com/wp-content/uploads/EC-2023-rectangle-RGB-e1674500429366.jpg
END:VEVENT
BEGIN:VEVENT
DTSTART;VALUE=DATE:20230807
DTEND;VALUE=DATE:20230815
DTSTAMP:20260421T191110
CREATED:20230717T132443Z
LAST-MODIFIED:20230717T132443Z
UID:2254-1691366400-1692057599@www.cowesyachthaven.com
SUMMARY:RC44 Cup - World Championships
DESCRIPTION:
URL:https://www.cowesyachthaven.com/event/rc44-cup-world-championships/
ATTACH;FMTTYPE=image/png:https://www.cowesyachthaven.com/wp-content/uploads/44Cup_Webheader.png
END:VEVENT
BEGIN:VEVENT
DTSTART;VALUE=DATE:20230729
DTEND;VALUE=DATE:20230805
DTSTAMP:20260421T191110
CREATED:20230717T130506Z
LAST-MODIFIED:20230717T133059Z
UID:2249-1690588800-1691193599@www.cowesyachthaven.com
SUMMARY:Cowes Week Regatta
DESCRIPTION:
URL:https://www.cowesyachthaven.com/event/cowes-week-regatta-2/
ATTACH;FMTTYPE=image/png:https://www.cowesyachthaven.com/wp-content/uploads/CW-weblogo-2023-1.png
END:VEVENT
BEGIN:VEVENT
DTSTART;VALUE=DATE:20230715
DTEND;VALUE=DATE:20230723
DTSTAMP:20260421T191110
CREATED:20230717T130002Z
LAST-MODIFIED:20230717T133720Z
UID:2245-1689379200-1690070399@www.cowesyachthaven.com
SUMMARY:British Classic YC Regatta
DESCRIPTION:
URL:https://www.cowesyachthaven.com/event/british-classic-yc-regatta/
ATTACH;FMTTYPE=image/png:https://www.cowesyachthaven.com/wp-content/uploads/BCNLogolandscapeNewColours.png
END:VEVENT
BEGIN:VEVENT
DTSTART;VALUE=DATE:20230701
DTEND;VALUE=DATE:20230702
DTSTAMP:20260421T191110
CREATED:20230628T130015Z
LAST-MODIFIED:20230717T140809Z
UID:1173-1688169600-1688255999@www.cowesyachthaven.com
SUMMARY:Round the Island Race
DESCRIPTION:
URL:https://www.cowesyachthaven.com/event/round-the-island-race-2023/
ATTACH;FMTTYPE=image/png:https://www.cowesyachthaven.com/wp-content/uploads/rir-logo-2023-date.png
END:VEVENT
BEGIN:VEVENT
DTSTART;TZID=Europe/London:20230406T093000
DTEND;TZID=Europe/London:20230406T170000
DTSTAMP:20260421T191110
CREATED:20230315T110624Z
LAST-MODIFIED:20230711T105534Z
UID:2083-1680773400-1680800400@www.cowesyachthaven.com
SUMMARY:Inflate-a-day - 6th April 2023
DESCRIPTION:Cowes Yacht Haven is excited to bring you…. \nINFLATE-A-DAY on Thursday 6th April \nFor session times\, please see the poster \nTo book click the  “Bookwhen” link below… \nPlease note\, there is no parking available onsite.
URL:https://www.cowesyachthaven.com/event/inflate-a-day/
LOCATION:Events Centre
ATTACH;FMTTYPE=image/png:https://www.cowesyachthaven.com/wp-content/uploads/Inflate-a-Day-1080-×-1080px.png
END:VEVENT
BEGIN:VEVENT
DTSTART;VALUE=DATE:20220826
DTEND;VALUE=DATE:20220830
DTSTAMP:20260421T191110
CREATED:20210504T125253Z
LAST-MODIFIED:20220120T140524Z
UID:1164-1661472000-1661817599@www.cowesyachthaven.com
SUMMARY:Powerboat Festival - 26 to 29 August 2022
DESCRIPTION:
URL:https://www.cowesyachthaven.com/event/powerboat-festival/
LOCATION:Marina
ATTACH;FMTTYPE=image/png:https://www.cowesyachthaven.com/wp-content/uploads/Site_Logo.png
END:VEVENT
BEGIN:VEVENT
DTSTART;VALUE=DATE:20220806
DTEND;VALUE=DATE:20220807
DTSTAMP:20260421T191110
CREATED:20220322T101629Z
LAST-MODIFIED:20220322T105303Z
UID:1536-1659744000-1659830399@www.cowesyachthaven.com
SUMMARY:Solent Jubilee Celebrations - 6th August 2022
DESCRIPTION:
URL:https://www.cowesyachthaven.com/event/solent-jubilee-celebrations/
LOCATION:Marina
ATTACH;FMTTYPE=image/png:https://www.cowesyachthaven.com/wp-content/uploads/HM-Queen-Platinum-Jubilee.png
END:VEVENT
BEGIN:VEVENT
DTSTART;VALUE=DATE:20220730
DTEND;VALUE=DATE:20220807
DTSTAMP:20260421T191110
CREATED:20210504T125728Z
LAST-MODIFIED:20220120T130820Z
UID:1170-1659139200-1659830399@www.cowesyachthaven.com
SUMMARY:Cowes Week Regatta - 30 July to 6 August 2022
DESCRIPTION:
URL:https://www.cowesyachthaven.com/event/cowes-week-regatta/
LOCATION:Marina
ATTACH;FMTTYPE=image/png:https://www.cowesyachthaven.com/wp-content/uploads/weblogo-2020.png
END:VEVENT
BEGIN:VEVENT
DTSTART;VALUE=DATE:20220716
DTEND;VALUE=DATE:20220724
DTSTAMP:20260421T191110
CREATED:20210504T130343Z
LAST-MODIFIED:20220120T130910Z
UID:1176-1657929600-1658620799@www.cowesyachthaven.com
SUMMARY:British Classic Week 16 - 23 July 2022
DESCRIPTION:
URL:https://www.cowesyachthaven.com/event/british-classic-week-17-24-july-2021/
ATTACH;FMTTYPE=image/png:https://www.cowesyachthaven.com/wp-content/uploads/BCNLogolandscapeNewColours.png
END:VEVENT
BEGIN:VEVENT
DTSTART;TZID=Europe/London:20220417T133000
DTEND;TZID=Europe/London:20220417T180000
DTSTAMP:20260421T191110
CREATED:20220311T155251Z
LAST-MODIFIED:20220322T103916Z
UID:1528-1650202200-1650218400@www.cowesyachthaven.com
SUMMARY:Jazz on the Terrace - 17th April 2022
DESCRIPTION:INFORMATION\n\n\nDetails\n\nJazz on The Terrace with Gary Plumley & Mark Chettle. Easter Sunday 17th April 1.30pm-6pm. \n\n\n\nInstructions\n\nPlease book online here\nYou will be required to confirm the booking name and provide your booking reference
URL:https://www.cowesyachthaven.com/event/jazz-on-the-terrace/
LOCATION:Cowes Yacht Haven\, United Kingdom
ORGANIZER;CN="CYH Events":MAILTO:events@cowesyachthaven.com
END:VEVENT
BEGIN:VEVENT
DTSTART;VALUE=DATE:20220409
DTEND;VALUE=DATE:20220411
DTSTAMP:20260421T191110
CREATED:20220120T135914Z
LAST-MODIFIED:20220120T140137Z
UID:1365-1649462400-1649635199@www.cowesyachthaven.com
SUMMARY:Wedding and Events Show - 9th and 10th April 2022
DESCRIPTION:
URL:https://www.cowesyachthaven.com/event/wedding-and-events-show/
LOCATION:Events Centre
END:VEVENT
BEGIN:VEVENT
DTSTART;VALUE=DATE:20220401
DTEND;VALUE=DATE:20221011
DTSTAMP:20260421T191110
CREATED:20200703T110056Z
LAST-MODIFIED:20221012T105421Z
UID:570-1648771200-1665446399@www.cowesyachthaven.com
SUMMARY:Pontoon View - Bar and Food outlet
DESCRIPTION:For more details of our onsite bar and food outlet (Opening times / menus etc…) Visit: https://www.cowesyachthaven.com/marina-boatyard/pontoonview/ \n  \n 
URL:https://www.cowesyachthaven.com/event/pontoon-view/
ATTACH;FMTTYPE=image/png:https://www.cowesyachthaven.com/wp-content/uploads/001.png
END:VEVENT
END:VCALENDAR